BEGIN:VCALENDAR
VERSION:2.0
PRODID:-//Hohenaverbergen.de - ECPv6.15.20//NONSGML v1.0//EN
CALSCALE:GREGORIAN
METHOD:PUBLISH
X-WR-CALNAME:Hohenaverbergen.de
X-ORIGINAL-URL:https://hohenaverbergen.de
X-WR-CALDESC:Veranstaltungen für Hohenaverbergen.de
REFRESH-INTERVAL;VALUE=DURATION:PT1H
X-Robots-Tag:noindex
X-PUBLISHED-TTL:PT1H
BEGIN:VTIMEZONE
TZID:Europe/Berlin
BEGIN:DAYLIGHT
TZOFFSETFROM:+0100
TZOFFSETTO:+0200
TZNAME:CEST
DTSTART:20210328T010000
END:DAYLIGHT
BEGIN:STANDARD
TZOFFSETFROM:+0200
TZOFFSETTO:+0100
TZNAME:CET
DTSTART:20211031T010000
END:STANDARD
BEGIN:DAYLIGHT
TZOFFSETFROM:+0100
TZOFFSETTO:+0200
TZNAME:CEST
DTSTART:20220327T010000
END:DAYLIGHT
BEGIN:STANDARD
TZOFFSETFROM:+0200
TZOFFSETTO:+0100
TZNAME:CET
DTSTART:20221030T010000
END:STANDARD
BEGIN:DAYLIGHT
TZOFFSETFROM:+0100
TZOFFSETTO:+0200
TZNAME:CEST
DTSTART:20230326T010000
END:DAYLIGHT
BEGIN:STANDARD
TZOFFSETFROM:+0200
TZOFFSETTO:+0100
TZNAME:CET
DTSTART:20231029T010000
END:STANDARD
END:VTIMEZONE
BEGIN:VEVENT
DTSTART;TZID=Europe/Berlin:20220409T100000
DTEND;TZID=Europe/Berlin:20220409T100000
DTSTAMP:20260424T194521
CREATED:20250721T194653Z
LAST-MODIFIED:20250721T194653Z
UID:295-1649498400-1649498400@hohenaverbergen.de
SUMMARY:Feuerholzsammlung für Osterfeuer 2022
DESCRIPTION:Die Jugendfeuerwehr Hohenaverbergen möchte eine alte Tradition wieder ins Leben rufen und für das Osterfeuer am 16.04.2022 auf dem Lohberg\, im Dorf\, Feuerholz sammeln.\n \n\n	Termin für die Abfuhr ist der 09.04.2022 ab 10 Uhr.\n\n\n	Für eine bessere Tourplanung wird um eine Anmeldung bis 07.04 gebeten.\n \n\n	Wir möchten darauf hinweisen\, dass die Jugendfeuerwehr nicht mit Kettensägen anrückt\, d. h. wir sammeln nur Baum- bzw. Strauchschnitt\, keine Baumstämme\, Wurzelstöcke und behandeltes Holz. Auch sollten die Stücke in Größe und Länge für unsere Kinder / Jugendliche zu händeln sein\, ebenso bitten wir\, das Schnittgut in der Nähe von\, mit Traktor und Anhänger\, befahrbaren Straße zu deponieren.\n \n\n	Zudem müssen wir noch erwähnen\, dass die Jugendfeuerwehr nicht für die Gehweg- bzw. Straßenreinigung nach Abfuhr zuständig ist.\n \n\n	Die Abfuhr ist kostenlos\, wir würden uns aber sehr über eine Spende freuen.\n \n\n	Die Anmeldung oder Fragen bitte an\n \n\n\n		Tina Lechner 0151/51810318\n	\n\n		Jonas Schilling 0179/6039898\n	\n\n\n	Wir freuen uns schon auf ein großes Osterfeuer am 16.04.2022 am Lohberg!\n \n\n	Eure Jugendfeuerwehr Hohenaverbergen
URL:https://hohenaverbergen.de/event/feuerholzsammlung-fuer-osterfeuer-2022/
ATTACH;FMTTYPE=image/jpeg:https://hohenaverbergen.de/wp-content/uploads/2025/07/bush-972972.jpg.a7d072aa71e00943b0cc7db10c411ae0-6LRqQB.jpg
END:VEVENT
END:VCALENDAR