BEGIN:VCALENDAR
VERSION:2.0
PRODID:-//Hohenaverbergen.de - ECPv6.15.20//NONSGML v1.0//EN
CALSCALE:GREGORIAN
METHOD:PUBLISH
X-ORIGINAL-URL:https://hohenaverbergen.de
X-WR-CALDESC:Veranstaltungen für Hohenaverbergen.de
REFRESH-INTERVAL;VALUE=DURATION:PT1H
X-Robots-Tag:noindex
X-PUBLISHED-TTL:PT1H
BEGIN:VTIMEZONE
TZID:Europe/Berlin
BEGIN:DAYLIGHT
TZOFFSETFROM:+0100
TZOFFSETTO:+0200
TZNAME:CEST
DTSTART:20210328T010000
END:DAYLIGHT
BEGIN:STANDARD
TZOFFSETFROM:+0200
TZOFFSETTO:+0100
TZNAME:CET
DTSTART:20211031T010000
END:STANDARD
BEGIN:DAYLIGHT
TZOFFSETFROM:+0100
TZOFFSETTO:+0200
TZNAME:CEST
DTSTART:20220327T010000
END:DAYLIGHT
BEGIN:STANDARD
TZOFFSETFROM:+0200
TZOFFSETTO:+0100
TZNAME:CET
DTSTART:20221030T010000
END:STANDARD
BEGIN:DAYLIGHT
TZOFFSETFROM:+0100
TZOFFSETTO:+0200
TZNAME:CEST
DTSTART:20230326T010000
END:DAYLIGHT
BEGIN:STANDARD
TZOFFSETFROM:+0200
TZOFFSETTO:+0100
TZNAME:CET
DTSTART:20231029T010000
END:STANDARD
END:VTIMEZONE
BEGIN:VEVENT
DTSTART;TZID=Europe/Berlin:20220513T191500
DTEND;TZID=Europe/Berlin:20220513T204500
DTSTAMP:20260424T174953
CREATED:20250721T194711Z
LAST-MODIFIED:20250721T194711Z
UID:313-1652469300-1652474700@hohenaverbergen.de
SUMMARY:Derby: TSV Lohberg vs. TSV Brunsbrock II
DESCRIPTION:Ort: Sportplatz TSV Lohberg\n	Veranstalter: TSV Lohberg
URL:https://hohenaverbergen.de/event/derby-tsv-lohberg-vs-tsv-brunsbrock-ii/
ATTACH;FMTTYPE=image/jpeg:https://hohenaverbergen.de/wp-content/uploads/2025/07/football-1396740.jpg.a96175365f37cd59d556ed7e1b2e6b76-zkDq0I.jpg
END:VEVENT
END:VCALENDAR