BEGIN:VCALENDAR
VERSION:2.0
PRODID:-//Hohenaverbergen.de - ECPv6.15.20//NONSGML v1.0//EN
CALSCALE:GREGORIAN
METHOD:PUBLISH
X-ORIGINAL-URL:https://hohenaverbergen.de
X-WR-CALDESC:Veranstaltungen für Hohenaverbergen.de
REFRESH-INTERVAL;VALUE=DURATION:PT1H
X-Robots-Tag:noindex
X-PUBLISHED-TTL:PT1H
BEGIN:VTIMEZONE
TZID:Europe/Berlin
BEGIN:DAYLIGHT
TZOFFSETFROM:+0100
TZOFFSETTO:+0200
TZNAME:CEST
DTSTART:20210328T010000
END:DAYLIGHT
BEGIN:STANDARD
TZOFFSETFROM:+0200
TZOFFSETTO:+0100
TZNAME:CET
DTSTART:20211031T010000
END:STANDARD
BEGIN:DAYLIGHT
TZOFFSETFROM:+0100
TZOFFSETTO:+0200
TZNAME:CEST
DTSTART:20220327T010000
END:DAYLIGHT
BEGIN:STANDARD
TZOFFSETFROM:+0200
TZOFFSETTO:+0100
TZNAME:CET
DTSTART:20221030T010000
END:STANDARD
BEGIN:DAYLIGHT
TZOFFSETFROM:+0100
TZOFFSETTO:+0200
TZNAME:CEST
DTSTART:20230326T010000
END:DAYLIGHT
BEGIN:STANDARD
TZOFFSETFROM:+0200
TZOFFSETTO:+0100
TZNAME:CET
DTSTART:20231029T010000
END:STANDARD
END:VTIMEZONE
BEGIN:VEVENT
DTSTART;VALUE=DATE:20220709
DTEND;VALUE=DATE:20220711
DTSTAMP:20260424T155634
CREATED:20250721T194700Z
LAST-MODIFIED:20250721T194700Z
UID:301-1657324800-1657497599@hohenaverbergen.de
SUMMARY:Hohener Schützenfest
DESCRIPTION:Dieses Jahr ist das Schützenfest wieder geplant. Es findet unter einem ganz besonderen Stern statt: Der Schützenverein Hohenaverbergen feierte 2020 sein 100-jähriges Bestehen. Es gilt nun nachzufeiern.
URL:https://hohenaverbergen.de/event/hohener-schuetzenfest/
ATTACH;FMTTYPE=image/png:https://hohenaverbergen.de/wp-content/uploads/2025/07/Schuetzenverein.png.138dc4aea05ec1e51fe208815bbcea1d-ANqBUw.png
END:VEVENT
END:VCALENDAR