BEGIN:VCALENDAR
VERSION:2.0
PRODID:-//Hohenaverbergen.de - ECPv6.15.20//NONSGML v1.0//EN
CALSCALE:GREGORIAN
METHOD:PUBLISH
X-ORIGINAL-URL:https://hohenaverbergen.de
X-WR-CALDESC:Veranstaltungen für Hohenaverbergen.de
REFRESH-INTERVAL;VALUE=DURATION:PT1H
X-Robots-Tag:noindex
X-PUBLISHED-TTL:PT1H
BEGIN:VTIMEZONE
TZID:Europe/Berlin
BEGIN:DAYLIGHT
TZOFFSETFROM:+0100
TZOFFSETTO:+0200
TZNAME:CEST
DTSTART:20210328T010000
END:DAYLIGHT
BEGIN:STANDARD
TZOFFSETFROM:+0200
TZOFFSETTO:+0100
TZNAME:CET
DTSTART:20211031T010000
END:STANDARD
BEGIN:DAYLIGHT
TZOFFSETFROM:+0100
TZOFFSETTO:+0200
TZNAME:CEST
DTSTART:20220327T010000
END:DAYLIGHT
BEGIN:STANDARD
TZOFFSETFROM:+0200
TZOFFSETTO:+0100
TZNAME:CET
DTSTART:20221030T010000
END:STANDARD
BEGIN:DAYLIGHT
TZOFFSETFROM:+0100
TZOFFSETTO:+0200
TZNAME:CEST
DTSTART:20230326T010000
END:DAYLIGHT
BEGIN:STANDARD
TZOFFSETFROM:+0200
TZOFFSETTO:+0100
TZNAME:CET
DTSTART:20231029T010000
END:STANDARD
END:VTIMEZONE
BEGIN:VEVENT
DTSTART;VALUE=DATE:20220925
DTEND;VALUE=DATE:20220926
DTSTAMP:20260424T105045
CREATED:20250721T194702Z
LAST-MODIFIED:20250721T194702Z
UID:305-1664064000-1664150399@hohenaverbergen.de
SUMMARY:Hohen on Tour 2022
DESCRIPTION:Organisiert wird die Radtour von Torsten Hoins. Sie wird wieder an Orten und Plätzen um Hohen herum führen\, an die einige vielleicht nicht so oft vorbeikommen. Vor der eigenen Courage muss hier niemand Angst haben\, auch normale Radler haben die Chance gut mitzukommen. Und es werden auch immer wieder kurze Pausen zum Verschnaufen oder Fotografieren eingelegt werden.\n \n\n	Start ist am 25.09.2022 an der Luthereiche\, sobald uns die Uhrzeit vorliegt\, geben wir sie hier bekannt.\n \n\n	Anmeldung unter torsten.hoins@gmail.com oder telefonisch bei Torsten Hoins (Tel. 04238/1690 – Handy 0170/3831690)
URL:https://hohenaverbergen.de/event/hohen-on-tour-2022/
ATTACH;FMTTYPE=image/jpeg:https://hohenaverbergen.de/wp-content/uploads/2025/07/hohen-on-tour-2022.jpg.4b0acecfa55e80a097b8a3c0cfe6495e-r3d6vc.jpg
END:VEVENT
END:VCALENDAR