BEGIN:VCALENDAR
VERSION:2.0
PRODID:-//Hohenaverbergen.de - ECPv6.15.20//NONSGML v1.0//EN
CALSCALE:GREGORIAN
METHOD:PUBLISH
X-ORIGINAL-URL:https://hohenaverbergen.de
X-WR-CALDESC:Veranstaltungen für Hohenaverbergen.de
REFRESH-INTERVAL;VALUE=DURATION:PT1H
X-Robots-Tag:noindex
X-PUBLISHED-TTL:PT1H
BEGIN:VTIMEZONE
TZID:Europe/Berlin
BEGIN:DAYLIGHT
TZOFFSETFROM:+0100
TZOFFSETTO:+0200
TZNAME:CEST
DTSTART:20210328T010000
END:DAYLIGHT
BEGIN:STANDARD
TZOFFSETFROM:+0200
TZOFFSETTO:+0100
TZNAME:CET
DTSTART:20211031T010000
END:STANDARD
BEGIN:DAYLIGHT
TZOFFSETFROM:+0100
TZOFFSETTO:+0200
TZNAME:CEST
DTSTART:20220327T010000
END:DAYLIGHT
BEGIN:STANDARD
TZOFFSETFROM:+0200
TZOFFSETTO:+0100
TZNAME:CET
DTSTART:20221030T010000
END:STANDARD
BEGIN:DAYLIGHT
TZOFFSETFROM:+0100
TZOFFSETTO:+0200
TZNAME:CEST
DTSTART:20230326T010000
END:DAYLIGHT
BEGIN:STANDARD
TZOFFSETFROM:+0200
TZOFFSETTO:+0100
TZNAME:CET
DTSTART:20231029T010000
END:STANDARD
END:VTIMEZONE
BEGIN:VEVENT
DTSTART;TZID=Europe/Berlin:20221029T090000
DTEND;TZID=Europe/Berlin:20221029T120000
DTSTAMP:20260422T112143
CREATED:20250721T194736Z
LAST-MODIFIED:20250721T194736Z
UID:341-1667034000-1667044800@hohenaverbergen.de
SUMMARY:Altpapier-Containersammlung in Hohenaverbergen
DESCRIPTION:Liebe Vereinsmitglieder\,\n	liebe Einwohner von Hohenaverbergen\,\n \n\n	die Sportler des TSV Lohberg engagieren sich seit Jahren für die Altpapiersammlung\, indem sie samstags freiwillig das Altpapier in ihrem dorf sammeln. Der Erlös aus der Altpapiersammlung ist für den TSV Lohberg eine wichtige Einnahmequelle\, die uns hilft\, die Kosten für den Sportbetrieb aufzubringen. Wir finanzieren damit Aktivitäten für Jung und Alt\, vom Kinderturnen bis zur Seniorengymnastik.\n \n\n	In Zukunft werden wir alle 4 Wochen den Container auf dem Grundstück der Familie Hoops\, Hohener Dorfstrasse 27 in der Zeit von 9:00 bis 12:00 Uhr aufstellen und ihr Altpapier sammeln. Achtung! Ab der nächsten Altpapiersammlung steht der Sammelcontainer auf dem Parkpatz bei der Firma Berlitz\, Hohener Dorfstraße 8. \n \n\n	Wir bitten Sie\, sich für die Altpapiersammlung des TSV Lohberg zu entscheiden und nicht für die blaue Tonne irgendeines Unternehmens/Landkreises. Für weitere Informationen und Fragen kontaktieren Sie unsere Geschäftsstelle unter 04231/951729. Vielen Dank für Ihre / Eure Unterstützung!
URL:https://hohenaverbergen.de/event/altpapier-containersammlung-in-hohenaverbergen-13/
ATTACH;FMTTYPE=image/jpeg:https://hohenaverbergen.de/wp-content/uploads/2025/07/2020_AltpapierBeitragsbild.jpg.f1babc43ff1695d62e7c2875add4c5e1-XgmhUA.jpg
END:VEVENT
END:VCALENDAR