BEGIN:VCALENDAR
VERSION:2.0
PRODID:-//Hohenaverbergen.de - ECPv6.15.20//NONSGML v1.0//EN
CALSCALE:GREGORIAN
METHOD:PUBLISH
X-ORIGINAL-URL:https://hohenaverbergen.de
X-WR-CALDESC:Veranstaltungen für Hohenaverbergen.de
REFRESH-INTERVAL;VALUE=DURATION:PT1H
X-Robots-Tag:noindex
X-PUBLISHED-TTL:PT1H
BEGIN:VTIMEZONE
TZID:Europe/Berlin
BEGIN:DAYLIGHT
TZOFFSETFROM:+0100
TZOFFSETTO:+0200
TZNAME:CEST
DTSTART:20210328T010000
END:DAYLIGHT
BEGIN:STANDARD
TZOFFSETFROM:+0200
TZOFFSETTO:+0100
TZNAME:CET
DTSTART:20211031T010000
END:STANDARD
BEGIN:DAYLIGHT
TZOFFSETFROM:+0100
TZOFFSETTO:+0200
TZNAME:CEST
DTSTART:20220327T010000
END:DAYLIGHT
BEGIN:STANDARD
TZOFFSETFROM:+0200
TZOFFSETTO:+0100
TZNAME:CET
DTSTART:20221030T010000
END:STANDARD
BEGIN:DAYLIGHT
TZOFFSETFROM:+0100
TZOFFSETTO:+0200
TZNAME:CEST
DTSTART:20230326T010000
END:DAYLIGHT
BEGIN:STANDARD
TZOFFSETFROM:+0200
TZOFFSETTO:+0100
TZNAME:CET
DTSTART:20231029T010000
END:STANDARD
END:VTIMEZONE
BEGIN:VEVENT
DTSTART;TZID=Europe/Berlin:20221113T133000
DTEND;TZID=Europe/Berlin:20221113T133000
DTSTAMP:20260422T082400
CREATED:20250721T194746Z
LAST-MODIFIED:20250721T194746Z
UID:351-1668346200-1668346200@hohenaverbergen.de
SUMMARY:Andacht zum Volkstrauertag
DESCRIPTION:In der Friedhofskapelle wird eine Andacht zum Volkstrauertag gehalten. Dieser Tag hat sich in den letzten Jahren immer mehr zu einem Tag für Frieden und Versöhnung entwickelt. Im Angedenken an die Verstorbenen\, an die Schrecken des Krieges und der Vertreibung hat der Volkstrauertag vor dem Hintergrund der aktuellen politischen Situation nichts von seiner Aktualität verloren. Er dient auch der Mahnung\, aus den Fehlern der Vergangenheit zu lernen.
URL:https://hohenaverbergen.de/event/andacht-zum-volkstrauertag-2/
ATTACH;FMTTYPE=image/jpeg:https://hohenaverbergen.de/wp-content/uploads/2025/07/pray-2558490.jpg.c9d3f9f02690940fb15e9169a393d196-af3GzV.jpg
END:VEVENT
END:VCALENDAR