BEGIN:VCALENDAR
VERSION:2.0
PRODID:-//Hohenaverbergen.de - ECPv6.15.20//NONSGML v1.0//EN
CALSCALE:GREGORIAN
METHOD:PUBLISH
X-WR-CALNAME:Hohenaverbergen.de
X-ORIGINAL-URL:https://hohenaverbergen.de
X-WR-CALDESC:Veranstaltungen für Hohenaverbergen.de
REFRESH-INTERVAL;VALUE=DURATION:PT1H
X-Robots-Tag:noindex
X-PUBLISHED-TTL:PT1H
BEGIN:VTIMEZONE
TZID:Europe/Berlin
BEGIN:DAYLIGHT
TZOFFSETFROM:+0100
TZOFFSETTO:+0200
TZNAME:CEST
DTSTART:20210328T010000
END:DAYLIGHT
BEGIN:STANDARD
TZOFFSETFROM:+0200
TZOFFSETTO:+0100
TZNAME:CET
DTSTART:20211031T010000
END:STANDARD
BEGIN:DAYLIGHT
TZOFFSETFROM:+0100
TZOFFSETTO:+0200
TZNAME:CEST
DTSTART:20220327T010000
END:DAYLIGHT
BEGIN:STANDARD
TZOFFSETFROM:+0200
TZOFFSETTO:+0100
TZNAME:CET
DTSTART:20221030T010000
END:STANDARD
BEGIN:DAYLIGHT
TZOFFSETFROM:+0100
TZOFFSETTO:+0200
TZNAME:CEST
DTSTART:20230326T010000
END:DAYLIGHT
BEGIN:STANDARD
TZOFFSETFROM:+0200
TZOFFSETTO:+0100
TZNAME:CET
DTSTART:20231029T010000
END:STANDARD
END:VTIMEZONE
BEGIN:VEVENT
DTSTART;TZID=Europe/Berlin:20221127T150000
DTEND;TZID=Europe/Berlin:20221127T190000
DTSTAMP:20260422T082140
CREATED:20250721T194754Z
LAST-MODIFIED:20250721T194754Z
UID:361-1669561200-1669575600@hohenaverbergen.de
SUMMARY:Glühweinfest am 1. Advent auf dem Dorfplatz
DESCRIPTION:Endlich gibt es auf dem Dorfplatz am 1. Advent wieder ein gemütlich-geselliges Zusammentreffen.\n \n\n	Bei Waffeln und Würstchen\, Glühwein und Punsch kann ausgiebig geplauscht werden. Wir wollen so gut es geht\, Müll vermeiden\, daher bringt bitte eure Tassen mit.\n \n\n	Der Weihnachtsmann hat seinen Besuch für die Kinder angekündigt\, lasst euch überraschen :-)…\n \n\n	Ein geschmückter Tannenbaum wird die Leute im Dorf in der Weihnachtszeit erfreuen.
URL:https://hohenaverbergen.de/event/gluehweinfest-am-1-advent-auf-dem-dorfplatz/
ATTACH;FMTTYPE=image/jpeg:https://hohenaverbergen.de/wp-content/uploads/2025/07/mulled-claret-6752146.jpg.e2990881f15fb4bbe853e84fad917089-dcu2sw.jpg
END:VEVENT
END:VCALENDAR