BEGIN:VCALENDAR
VERSION:2.0
PRODID:-//Hohenaverbergen.de - ECPv6.15.20//NONSGML v1.0//EN
CALSCALE:GREGORIAN
METHOD:PUBLISH
X-WR-CALNAME:Hohenaverbergen.de
X-ORIGINAL-URL:https://hohenaverbergen.de
X-WR-CALDESC:Veranstaltungen für Hohenaverbergen.de
REFRESH-INTERVAL;VALUE=DURATION:PT1H
X-Robots-Tag:noindex
X-PUBLISHED-TTL:PT1H
BEGIN:VTIMEZONE
TZID:Europe/Berlin
BEGIN:DAYLIGHT
TZOFFSETFROM:+0100
TZOFFSETTO:+0200
TZNAME:CEST
DTSTART:20210328T010000
END:DAYLIGHT
BEGIN:STANDARD
TZOFFSETFROM:+0200
TZOFFSETTO:+0100
TZNAME:CET
DTSTART:20211031T010000
END:STANDARD
BEGIN:DAYLIGHT
TZOFFSETFROM:+0100
TZOFFSETTO:+0200
TZNAME:CEST
DTSTART:20220327T010000
END:DAYLIGHT
BEGIN:STANDARD
TZOFFSETFROM:+0200
TZOFFSETTO:+0100
TZNAME:CET
DTSTART:20221030T010000
END:STANDARD
BEGIN:DAYLIGHT
TZOFFSETFROM:+0100
TZOFFSETTO:+0200
TZNAME:CEST
DTSTART:20230326T010000
END:DAYLIGHT
BEGIN:STANDARD
TZOFFSETFROM:+0200
TZOFFSETTO:+0100
TZNAME:CET
DTSTART:20231029T010000
END:STANDARD
END:VTIMEZONE
BEGIN:VEVENT
DTSTART;TZID=Europe/Berlin:20221202T140000
DTEND;TZID=Europe/Berlin:20221202T163000
DTSTAMP:20260422T065230
CREATED:20250721T194804Z
LAST-MODIFIED:20250721T194804Z
UID:371-1669989600-1669998600@hohenaverbergen.de
SUMMARY:Laubsammelaktion der Dörfergemeinschaft
DESCRIPTION:Die Ortsvorsteherinnen und Ortsvorsteher aus den Dörfern Armsen\, Neddenaverbergen\, Hohenaverbergen und Luttum haben sich zusammengetan und bieten eine zentrale Laubsammelaktion an.\n \n\n	Die erste Annahme findet am 02.12.2022 in der Zeit von 14.00 Uhr bis 16.30 Uhr statt.\n	Die zweite Annahme findet am 03.12.2022 von 09.30 Uhr bis 12.30 Uhr und von 14.00 Uhr bis 16:30 Uhr statt.\n \n\n	Der Containerstandort ist Am Dreieck in Armsen.\n \n\n	Die Gemeinde stellt die Container und die Ortsvorsteher haben ehrenamtlich die Laubannahme organisiert. Die Kosten der Laubentsorgung trägt die Gemeinde Kirchlinteln. Abgabeberechtigt sind die Bürgerinnen und Bürger mit festem Wohnsitz in den voran genannten Ortschaften. Abgegeben werden darf ausschließlich Laub und keine anderen Grünabfälle oder andere Abfälle\, da ansonsten erhebliche Entsorgungskosten für die Gemeinde Kirchlinteln anfallen werden. Eine Anlieferung ist außerhalb der angegebenen Zeiten nicht gestattet.
URL:https://hohenaverbergen.de/event/laubsammelaktion-der-doerfergemeinschaft/
ATTACH;FMTTYPE=image/jpeg:https://hohenaverbergen.de/wp-content/uploads/2025/07/autumn-83761.jpg.1c81cbca49a221241a17a269f8867474-YjEKiT.jpg
END:VEVENT
END:VCALENDAR