BEGIN:VCALENDAR
VERSION:2.0
PRODID:-//Hohenaverbergen.de - ECPv6.15.20//NONSGML v1.0//EN
CALSCALE:GREGORIAN
METHOD:PUBLISH
X-ORIGINAL-URL:https://hohenaverbergen.de
X-WR-CALDESC:Veranstaltungen für Hohenaverbergen.de
REFRESH-INTERVAL;VALUE=DURATION:PT1H
X-Robots-Tag:noindex
X-PUBLISHED-TTL:PT1H
BEGIN:VTIMEZONE
TZID:Europe/Berlin
BEGIN:DAYLIGHT
TZOFFSETFROM:+0100
TZOFFSETTO:+0200
TZNAME:CEST
DTSTART:20210328T010000
END:DAYLIGHT
BEGIN:STANDARD
TZOFFSETFROM:+0200
TZOFFSETTO:+0100
TZNAME:CET
DTSTART:20211031T010000
END:STANDARD
BEGIN:DAYLIGHT
TZOFFSETFROM:+0100
TZOFFSETTO:+0200
TZNAME:CEST
DTSTART:20220327T010000
END:DAYLIGHT
BEGIN:STANDARD
TZOFFSETFROM:+0200
TZOFFSETTO:+0100
TZNAME:CET
DTSTART:20221030T010000
END:STANDARD
BEGIN:DAYLIGHT
TZOFFSETFROM:+0100
TZOFFSETTO:+0200
TZNAME:CEST
DTSTART:20230326T010000
END:DAYLIGHT
BEGIN:STANDARD
TZOFFSETFROM:+0200
TZOFFSETTO:+0100
TZNAME:CET
DTSTART:20231029T010000
END:STANDARD
END:VTIMEZONE
BEGIN:VEVENT
DTSTART;TZID=Europe/Berlin:20221205T190000
DTEND;TZID=Europe/Berlin:20221205T200000
DTSTAMP:20260422T082304
CREATED:20250721T194803Z
LAST-MODIFIED:20250721T194803Z
UID:367-1670266800-1670270400@hohenaverbergen.de
SUMMARY:Adventliches Hofsingen mit dem JakobiChor - in Hohenaverbergen auf dem Dorfplatz
DESCRIPTION:Herzlich willkommen zum adventlichen Hofsingen vom JakobiChor der St.-Jakobi Gemeinde Wittlohe!\n \n\n	Für alle\n \n\n	. . die spazieren gehen.\n \n\n	. . als Zaungast stehenbleiben\, innehalten\, weitergehen.\n \n\n	. . bekannte Lieder mitsingen möchten\, oder einfach nur zuhören.\n \n\n	. . sich von der adventlichen Stimmung inspirieren lassen möchten.\n \n\n	Wir singen draußen bei Lichterglanz. Wetterfeste Kleidung ist angesagt.\n \n\n	Es gibt keine Bewirtung. Denken Sie an die Coronaregeln.
URL:https://hohenaverbergen.de/event/adventliches-hofsingen-mit-dem-jakobichor-in-hohenaverbergen-auf-dem-dorfplatz/
ATTACH;FMTTYPE=image/jpeg:https://hohenaverbergen.de/wp-content/uploads/2025/07/poinsettia-443488.jpg.697b09d8a07372d5026d223e3fe181ce-7ttl1T.jpg
END:VEVENT
END:VCALENDAR