BEGIN:VCALENDAR
VERSION:2.0
PRODID:-//Hohenaverbergen.de - ECPv6.15.20//NONSGML v1.0//EN
CALSCALE:GREGORIAN
METHOD:PUBLISH
X-ORIGINAL-URL:https://hohenaverbergen.de
X-WR-CALDESC:Veranstaltungen für Hohenaverbergen.de
REFRESH-INTERVAL;VALUE=DURATION:PT1H
X-Robots-Tag:noindex
X-PUBLISHED-TTL:PT1H
BEGIN:VTIMEZONE
TZID:Europe/Berlin
BEGIN:DAYLIGHT
TZOFFSETFROM:+0100
TZOFFSETTO:+0200
TZNAME:CEST
DTSTART:20220327T010000
END:DAYLIGHT
BEGIN:STANDARD
TZOFFSETFROM:+0200
TZOFFSETTO:+0100
TZNAME:CET
DTSTART:20221030T010000
END:STANDARD
BEGIN:DAYLIGHT
TZOFFSETFROM:+0100
TZOFFSETTO:+0200
TZNAME:CEST
DTSTART:20230326T010000
END:DAYLIGHT
BEGIN:STANDARD
TZOFFSETFROM:+0200
TZOFFSETTO:+0100
TZNAME:CET
DTSTART:20231029T010000
END:STANDARD
BEGIN:DAYLIGHT
TZOFFSETFROM:+0100
TZOFFSETTO:+0200
TZNAME:CEST
DTSTART:20240331T010000
END:DAYLIGHT
BEGIN:STANDARD
TZOFFSETFROM:+0200
TZOFFSETTO:+0100
TZNAME:CET
DTSTART:20241027T010000
END:STANDARD
END:VTIMEZONE
BEGIN:VEVENT
DTSTART;TZID=Europe/Berlin:20230314T150000
DTEND;TZID=Europe/Berlin:20230314T150000
DTSTAMP:20260422T033228
CREATED:20250721T194823Z
LAST-MODIFIED:20250721T194823Z
UID:393-1678806000-1678806000@hohenaverbergen.de
SUMMARY:Senioren Kaffenachmittag
DESCRIPTION:Um 15 Uhr lädt Senioren Orga-Team des Schützenvereins zu einem Kaffeenachmittag.\n \n\n	Unter anderem wird das Thema „Hilfen zur Pflege“ angesprochen.\n \n\n	Ansprechpartner:\n \n\n	Helmut SöhnRingstraße 627308 KirchlintelnE-Mail: info@sv-hohenaverbergen.de
URL:https://hohenaverbergen.de/event/senioren-kaffenachmittag/
ATTACH;FMTTYPE=image/jpeg:https://hohenaverbergen.de/wp-content/uploads/2025/07/coffee-842020.jpg.fe100a5f0c4a91c5137dc122c2af2b25-bZhs8j.jpg
END:VEVENT
END:VCALENDAR