BEGIN:VCALENDAR
VERSION:2.0
PRODID:-//Hohenaverbergen.de - ECPv6.15.20//NONSGML v1.0//EN
CALSCALE:GREGORIAN
METHOD:PUBLISH
X-WR-CALNAME:Hohenaverbergen.de
X-ORIGINAL-URL:https://hohenaverbergen.de
X-WR-CALDESC:Veranstaltungen für Hohenaverbergen.de
REFRESH-INTERVAL;VALUE=DURATION:PT1H
X-Robots-Tag:noindex
X-PUBLISHED-TTL:PT1H
BEGIN:VTIMEZONE
TZID:Europe/Berlin
BEGIN:DAYLIGHT
TZOFFSETFROM:+0100
TZOFFSETTO:+0200
TZNAME:CEST
DTSTART:20220327T010000
END:DAYLIGHT
BEGIN:STANDARD
TZOFFSETFROM:+0200
TZOFFSETTO:+0100
TZNAME:CET
DTSTART:20221030T010000
END:STANDARD
BEGIN:DAYLIGHT
TZOFFSETFROM:+0100
TZOFFSETTO:+0200
TZNAME:CEST
DTSTART:20230326T010000
END:DAYLIGHT
BEGIN:STANDARD
TZOFFSETFROM:+0200
TZOFFSETTO:+0100
TZNAME:CET
DTSTART:20231029T010000
END:STANDARD
BEGIN:DAYLIGHT
TZOFFSETFROM:+0100
TZOFFSETTO:+0200
TZNAME:CEST
DTSTART:20240331T010000
END:DAYLIGHT
BEGIN:STANDARD
TZOFFSETFROM:+0200
TZOFFSETTO:+0100
TZNAME:CET
DTSTART:20241027T010000
END:STANDARD
END:VTIMEZONE
BEGIN:VEVENT
DTSTART;TZID=Europe/Berlin:20230318T110000
DTEND;TZID=Europe/Berlin:20230318T110000
DTSTAMP:20260422T015107
CREATED:20250721T194834Z
LAST-MODIFIED:20250721T194834Z
UID:403-1679137200-1679137200@hohenaverbergen.de
SUMMARY:Obstbäume auf der Lust pflanzen
DESCRIPTION:Letzten Herbst konnten wir mit tatkräftiger Unterstützung rund 1000 Wildsträucher pflanzen. Nun sollen auch ein paar Obstbäume folgen\, die uns die Jägerschaft Verden zur Verfügung stellt\, um eine ökologisch wertvolle Streuobstwiese anzulegen. Auf diese Wiese dürft ihr euch dann gerne bedienen.\n \n\n	Diese Aktion wird kleiner als die letzte sein. Aber trotzdem freue ich mich über motivierte Helfer aus dem Ort\, die das für eine gute Idee halten (gerne in Begleitung von Schubkarre und Spaten).\n \n\n	Wenn du vorbeikommen möchtest\, melde dich bitte kurz bei mir. Wir treffen uns um 11 Uhr an der Lust (Hohener Dorf-Rand am Lohberg). Für Snacks und Getränke ist gesorgt.\n \n\n	Ich freue mich auf euch!\n	Felix (bitte hier anmelden -> info@felixcordes.de) 
URL:https://hohenaverbergen.de/event/obstbaeume-auf-der-lust-pflanzen/
ATTACH;FMTTYPE=image/jpeg:https://hohenaverbergen.de/wp-content/uploads/2025/07/mostbirnen-62460.jpg.5cf408d75e02763bc34f32aaf14f9ee3-U0XPPA.jpg
END:VEVENT
END:VCALENDAR