BEGIN:VCALENDAR
VERSION:2.0
PRODID:-//Hohenaverbergen.de - ECPv6.15.20//NONSGML v1.0//EN
CALSCALE:GREGORIAN
METHOD:PUBLISH
X-WR-CALNAME:Hohenaverbergen.de
X-ORIGINAL-URL:https://hohenaverbergen.de
X-WR-CALDESC:Veranstaltungen für Hohenaverbergen.de
REFRESH-INTERVAL;VALUE=DURATION:PT1H
X-Robots-Tag:noindex
X-PUBLISHED-TTL:PT1H
BEGIN:VTIMEZONE
TZID:Europe/Berlin
BEGIN:DAYLIGHT
TZOFFSETFROM:+0100
TZOFFSETTO:+0200
TZNAME:CEST
DTSTART:20220327T010000
END:DAYLIGHT
BEGIN:STANDARD
TZOFFSETFROM:+0200
TZOFFSETTO:+0100
TZNAME:CET
DTSTART:20221030T010000
END:STANDARD
BEGIN:DAYLIGHT
TZOFFSETFROM:+0100
TZOFFSETTO:+0200
TZNAME:CEST
DTSTART:20230326T010000
END:DAYLIGHT
BEGIN:STANDARD
TZOFFSETFROM:+0200
TZOFFSETTO:+0100
TZNAME:CET
DTSTART:20231029T010000
END:STANDARD
BEGIN:DAYLIGHT
TZOFFSETFROM:+0100
TZOFFSETTO:+0200
TZNAME:CEST
DTSTART:20240331T010000
END:DAYLIGHT
BEGIN:STANDARD
TZOFFSETFROM:+0200
TZOFFSETTO:+0100
TZNAME:CET
DTSTART:20241027T010000
END:STANDARD
END:VTIMEZONE
BEGIN:VEVENT
DTSTART;VALUE=DATE:20230401
DTEND;VALUE=DATE:20230402
DTSTAMP:20260422T001105
CREATED:20250721T194831Z
LAST-MODIFIED:20250721T194831Z
UID:396-1680307200-1680393599@hohenaverbergen.de
SUMMARY:VERSCHOBEN! Osterbasteln und Eiersuche für Kinder
DESCRIPTION:<a href="/calendar/event/234-osterbasteln-ostereiersuche-fuer-kinder/“ rel=““>Achtung! Dieser Termin verschiebt sich auf den 5. April!\n \n\n	Osterzeit ist Kinderzeit – egal\, ob unsere Kleinen tolle Osterdeko basteln oder auf die spannende Eiersuche gehen – das Schönste daran sind immer die leuchtenden Augen\, der Zauber\, der aus ihnen hervorgeht. Dieses Jahr kümmern sich viele Freiwillige wieder darum\, dass die Osterzeit für die Kinder im Dorf zum Erlebnis wird. \n \n\n	Der Veranstalter ist die <a href="/vereine/dorfgemeinschaft-hohenaverbergen-ev-r4/“ rel=““>Dorfgemeinschaft.
URL:https://hohenaverbergen.de/event/verschoben-osterbasteln-und-eiersuche-fuer-kinder/
ATTACH;FMTTYPE=image/jpeg:https://hohenaverbergen.de/wp-content/uploads/2025/07/easter-bunny-95096.jpg.24011347fed19ce227fa5feedc96bb06-nLMLiA.jpg
END:VEVENT
BEGIN:VEVENT
DTSTART;TZID=Europe/Berlin:20230401T100000
DTEND;TZID=Europe/Berlin:20230401T100000
DTSTAMP:20260422T001105
CREATED:20250721T194840Z
LAST-MODIFIED:20250721T194840Z
UID:409-1680343200-1680343200@hohenaverbergen.de
SUMMARY:Feuerholzsammlung für Osterfeuer 2023
DESCRIPTION:Die Jugendfeuerwehr Hohenaverbergen möchte\, nach dem großen Zuspruch um letzten Jahr\, auch 2023 für das Osterfeuer auf dem Lohberg am 08.04.2023 Feuerholz im Dorf sammeln. \n \n\n	Termin für die Abfuhr ist der 01.04.2022 ab 10 Uhr.\n\n\n	Für eine bessere Tourplanung wird um eine Anmeldung bis 30.03. gebeten.\n \n\n	Wir möchten darauf hinweisen\, dass die Jugendfeuerwehr nicht mit Kettensägen anrückt\, d. h. wir sammeln nur Baum- bzw. Strauchschnitt\, keine Baumstämme\, Wurzelstöcke und behandeltes Holz. Auch sollten die Stücke in Größe und Länge für unsere Kinder / Jugendliche zu händeln sein\, ebenso bitten wir\, das Schnittgut in der Nähe von\, mit Traktor und Anhänger\, befahrbaren Straße zu deponieren. Und es sollte das Volumen von 2 qm pro Abfuhr nicht überschreiten.\n \n\n	Zudem müssen wir noch erwähnen\, dass die Jugendfeuerwehr nicht für die Gehweg- bzw. Straßenreinigung nach Abfuhr zuständig ist.\n \n\n	Die Abfuhr ist kostenlos\, wir würden uns aber sehr über eine Spende für Jugendfeuerwehrkasse freuen.\n \n\n	Die Anmeldung oder Fragen bitte an\n \n\n\n		Tina Lechner 0151/51810318\n	\n\n		Jonas Schilling 0179/62405782\n	\n\n\n	Wir freuen uns schon auf ein <a href="/calendar/event/235-osterfeuer-am-lohberg-2023/“ rel=““>großes Osterfeuer am 08.04.2023 am Lohberg!\n \n\n	Eure Jugendfeuerwehr Hohenaverbergen
URL:https://hohenaverbergen.de/event/feuerholzsammlung-fuer-osterfeuer-2023/
ATTACH;FMTTYPE=image/jpeg:https://hohenaverbergen.de/wp-content/uploads/2025/07/bush-972972.jpg.a8746c39ab21fe1de56eae1db815c715-j0NU7K.jpg
END:VEVENT
END:VCALENDAR