BEGIN:VCALENDAR
VERSION:2.0
PRODID:-//Hohenaverbergen.de - ECPv6.15.20//NONSGML v1.0//EN
CALSCALE:GREGORIAN
METHOD:PUBLISH
X-WR-CALNAME:Hohenaverbergen.de
X-ORIGINAL-URL:https://hohenaverbergen.de
X-WR-CALDESC:Veranstaltungen für Hohenaverbergen.de
REFRESH-INTERVAL;VALUE=DURATION:PT1H
X-Robots-Tag:noindex
X-PUBLISHED-TTL:PT1H
BEGIN:VTIMEZONE
TZID:Europe/Berlin
BEGIN:DAYLIGHT
TZOFFSETFROM:+0100
TZOFFSETTO:+0200
TZNAME:CEST
DTSTART:20220327T010000
END:DAYLIGHT
BEGIN:STANDARD
TZOFFSETFROM:+0200
TZOFFSETTO:+0100
TZNAME:CET
DTSTART:20221030T010000
END:STANDARD
BEGIN:DAYLIGHT
TZOFFSETFROM:+0100
TZOFFSETTO:+0200
TZNAME:CEST
DTSTART:20230326T010000
END:DAYLIGHT
BEGIN:STANDARD
TZOFFSETFROM:+0200
TZOFFSETTO:+0100
TZNAME:CET
DTSTART:20231029T010000
END:STANDARD
BEGIN:DAYLIGHT
TZOFFSETFROM:+0100
TZOFFSETTO:+0200
TZNAME:CEST
DTSTART:20240331T010000
END:DAYLIGHT
BEGIN:STANDARD
TZOFFSETFROM:+0200
TZOFFSETTO:+0100
TZNAME:CET
DTSTART:20241027T010000
END:STANDARD
END:VTIMEZONE
BEGIN:VEVENT
DTSTART;TZID=Europe/Berlin:20230420T193000
DTEND;TZID=Europe/Berlin:20230420T193000
DTSTAMP:20260422T001105
CREATED:20250721T194858Z
LAST-MODIFIED:20250721T194858Z
UID:441-1682019000-1682019000@hohenaverbergen.de
SUMMARY:Ortschaftsversammlung
DESCRIPTION:Am Donnerstag\, dem 20. April 2023 um 19:30 Uhr im Gasthaus Zum Drommelbeck in Hohenaverbergen findet die jährliche Info- und Ortschaftsversammlung für alle Bürgerinnen und Bürger aus Hohenaverbergen statt.\n \n\n	Themen\n\n\n	1. Begrüßung\n \n\n	2. Aktuelles aus der Gemeinde\n	– Notfalltreffpunkte\n	– Spielplätze\n	– Digitales Amtsblatt\n	– Dorfregion – Kleinbahnbezirk\n \n\n	3. Themen aus der Ortschaft\n	– Geschwindigkeitsmessgerät Orteingang Richtung Verden\n	– Spielgerät Dorfplatz\n	– Friedhof\n	– Bücherschrank\n	– Plattdeutsche Ortsnamen auf den Ortseingangsschildern.\n \n\n	4. Anfragen von Einwohnerinnen und Einwohner\n \n\n	Um 18:30 Uhr findet ein Ortstermin mit der Besichtigung der Heizanlage am Heisterweg 2 statt. zu dem interessierte Bürgerinnen und Bürger herzlich eingeladen sind.\n \n\n	Sie sind herzlich eingeladen! \n \n\n	Der Bürgermeister: Arne Jacobs\n	Die Ortsvorsteherin: Birgit Söhn\n	Stellv. Ortsvorsteherin: Heike Moritz
URL:https://hohenaverbergen.de/event/ortschaftsversammlung-3/
ATTACH;FMTTYPE=image/jpeg:https://hohenaverbergen.de/wp-content/uploads/2025/07/writing-923882.jpg.998fd763f632e4d72df6af86a3e3d16c-SOalkZ.jpg
END:VEVENT
END:VCALENDAR