BEGIN:VCALENDAR
VERSION:2.0
PRODID:-//Hohenaverbergen.de - ECPv6.15.20//NONSGML v1.0//EN
CALSCALE:GREGORIAN
METHOD:PUBLISH
X-ORIGINAL-URL:https://hohenaverbergen.de
X-WR-CALDESC:Veranstaltungen für Hohenaverbergen.de
REFRESH-INTERVAL;VALUE=DURATION:PT1H
X-Robots-Tag:noindex
X-PUBLISHED-TTL:PT1H
BEGIN:VTIMEZONE
TZID:Europe/Berlin
BEGIN:DAYLIGHT
TZOFFSETFROM:+0100
TZOFFSETTO:+0200
TZNAME:CEST
DTSTART:20220327T010000
END:DAYLIGHT
BEGIN:STANDARD
TZOFFSETFROM:+0200
TZOFFSETTO:+0100
TZNAME:CET
DTSTART:20221030T010000
END:STANDARD
BEGIN:DAYLIGHT
TZOFFSETFROM:+0100
TZOFFSETTO:+0200
TZNAME:CEST
DTSTART:20230326T010000
END:DAYLIGHT
BEGIN:STANDARD
TZOFFSETFROM:+0200
TZOFFSETTO:+0100
TZNAME:CET
DTSTART:20231029T010000
END:STANDARD
BEGIN:DAYLIGHT
TZOFFSETFROM:+0100
TZOFFSETTO:+0200
TZNAME:CEST
DTSTART:20240331T010000
END:DAYLIGHT
BEGIN:STANDARD
TZOFFSETFROM:+0200
TZOFFSETTO:+0100
TZNAME:CET
DTSTART:20241027T010000
END:STANDARD
END:VTIMEZONE
BEGIN:VEVENT
DTSTART;TZID=Europe/Berlin:20230507T143000
DTEND;TZID=Europe/Berlin:20230507T143000
DTSTAMP:20260421T222953
CREATED:20250721T194844Z
LAST-MODIFIED:20250721T194844Z
UID:423-1683469800-1683469800@hohenaverbergen.de
SUMMARY:Backfest Hohenaverbergen
DESCRIPTION:Der <a href="/vereine/dorfgemeinschaft-hohenaverbergen-ev-r4/“ rel=““ style=“background-color:transparent;“>Dorfverein Hohenaverbergen lädt zum Backfest ein. \n \n\n	Am 07.Mai um 14:30 auf dem Dorfplatz am Backhaus. \n \n\n	Es wird Butterkuchen angeboten. Für Getränke ist gesorgt. \n \n\n	Der Dorfverein freut sich auf viele Gäste!\n \n\n	 \n \n\n	Weitere Informationen folgen! 
URL:https://hohenaverbergen.de/event/backfest-hohenaverbergen-2/
ATTACH;FMTTYPE=image/jpeg:https://hohenaverbergen.de/wp-content/uploads/2025/07/backhaus-hohenaverbergen.jpg.589927021091a9a52395094bdba64648-U2UmlS.jpg
END:VEVENT
END:VCALENDAR