BEGIN:VCALENDAR
VERSION:2.0
PRODID:-//Hohenaverbergen.de - ECPv6.15.20//NONSGML v1.0//EN
CALSCALE:GREGORIAN
METHOD:PUBLISH
X-ORIGINAL-URL:https://hohenaverbergen.de
X-WR-CALDESC:Veranstaltungen für Hohenaverbergen.de
REFRESH-INTERVAL;VALUE=DURATION:PT1H
X-Robots-Tag:noindex
X-PUBLISHED-TTL:PT1H
BEGIN:VTIMEZONE
TZID:Europe/Berlin
BEGIN:DAYLIGHT
TZOFFSETFROM:+0100
TZOFFSETTO:+0200
TZNAME:CEST
DTSTART:20220327T010000
END:DAYLIGHT
BEGIN:STANDARD
TZOFFSETFROM:+0200
TZOFFSETTO:+0100
TZNAME:CET
DTSTART:20221030T010000
END:STANDARD
BEGIN:DAYLIGHT
TZOFFSETFROM:+0100
TZOFFSETTO:+0200
TZNAME:CEST
DTSTART:20230326T010000
END:DAYLIGHT
BEGIN:STANDARD
TZOFFSETFROM:+0200
TZOFFSETTO:+0100
TZNAME:CET
DTSTART:20231029T010000
END:STANDARD
BEGIN:DAYLIGHT
TZOFFSETFROM:+0100
TZOFFSETTO:+0200
TZNAME:CEST
DTSTART:20240331T010000
END:DAYLIGHT
BEGIN:STANDARD
TZOFFSETFROM:+0200
TZOFFSETTO:+0100
TZNAME:CET
DTSTART:20241027T010000
END:STANDARD
END:VTIMEZONE
BEGIN:VEVENT
DTSTART;TZID=Europe/Berlin:20230526T080000
DTEND;TZID=Europe/Berlin:20230526T150000
DTSTAMP:20260421T223142
CREATED:20250721T194859Z
LAST-MODIFIED:20250721T194859Z
UID:443-1685088000-1685113200@hohenaverbergen.de
SUMMARY:Feuerlöscherprüfung
DESCRIPTION:Liebe Hohenerinnen und Hohener\,\n \n\n	der Förderverein der Ortsfeuerwehr Hohenaverbergen unterstützt Sie bei der Brandschutz-Vorsorge und organisiert einen Termin zur Feuerlöscherprüfung am Freitag\, dem 26.05.2023 von 08:00 bis 16:00 Uhr in der Scheune von Gerd Hemsoth am Heisterweg 12.\n \n\n	Die Prüfungen werden durch die Brandschutz-Fachfirma NBS durchgeführt. Die Preise richten sich nach Art und Größe des jeweiligen Feuerlöschers. Jeder Kunde bekommt eine Rechnung und bezahlt per Überweisung.\n \n\n	Die Feuerlöscher (mit Namen versehen) können gerne bereits am 25.05.2023 zwischen 18:00 und 19:00 Uhr am Prüfort abgegeben werden\, damit NBS am Freitag sofort mit den Prüfungen beginnen kann.\n \n\n	Eine Anmeldung zur Feuerlöscherprüfung ist unbedingt bis zum 15.05.2023 erforderlich: per E-Mail an foerdervereinFWH@web.de oder an Sandra Nitsche per Mobil-Telefon 0179-4592116 (Anruf / WhatsApp / SMS / Telegram) mit folgenden Angaben: \n \n\n\n		Name und Anschrift\n	\n\n		Feuerlöscher-Größe (Gewicht in kg / Volumen in Liter)\n	\n\n		Löschmittel (Pulver / Schaum / Fettbrand-Löschmittel)\n	\n\n\n	Unsere Empfehlung: Feuerlöscher alle 2 Jahre prüfen lassen.\n \n\n	Der Vorstand des Fördervereins der Ortsfeuerwehr Hohenaverbergen.\n \n\n	 \n \n\n	 
URL:https://hohenaverbergen.de/event/feuerloescherpruefung/
ATTACH;FMTTYPE=image/jpeg:https://hohenaverbergen.de/wp-content/uploads/2025/07/fire-fighting-302586.jpg.432b6b3ae9f5cf35a71bdaf3f4c8bce5-80lOgZ.jpg
END:VEVENT
END:VCALENDAR