BEGIN:VCALENDAR
VERSION:2.0
PRODID:-//Hohenaverbergen.de - ECPv6.15.20//NONSGML v1.0//EN
CALSCALE:GREGORIAN
METHOD:PUBLISH
X-ORIGINAL-URL:https://hohenaverbergen.de
X-WR-CALDESC:Veranstaltungen für Hohenaverbergen.de
REFRESH-INTERVAL;VALUE=DURATION:PT1H
X-Robots-Tag:noindex
X-PUBLISHED-TTL:PT1H
BEGIN:VTIMEZONE
TZID:Europe/Berlin
BEGIN:DAYLIGHT
TZOFFSETFROM:+0100
TZOFFSETTO:+0200
TZNAME:CEST
DTSTART:20220327T010000
END:DAYLIGHT
BEGIN:STANDARD
TZOFFSETFROM:+0200
TZOFFSETTO:+0100
TZNAME:CET
DTSTART:20221030T010000
END:STANDARD
BEGIN:DAYLIGHT
TZOFFSETFROM:+0100
TZOFFSETTO:+0200
TZNAME:CEST
DTSTART:20230326T010000
END:DAYLIGHT
BEGIN:STANDARD
TZOFFSETFROM:+0200
TZOFFSETTO:+0100
TZNAME:CET
DTSTART:20231029T010000
END:STANDARD
BEGIN:DAYLIGHT
TZOFFSETFROM:+0100
TZOFFSETTO:+0200
TZNAME:CEST
DTSTART:20240331T010000
END:DAYLIGHT
BEGIN:STANDARD
TZOFFSETFROM:+0200
TZOFFSETTO:+0100
TZNAME:CET
DTSTART:20241027T010000
END:STANDARD
END:VTIMEZONE
BEGIN:VEVENT
DTSTART;TZID=Europe/Berlin:20230623T170000
DTEND;TZID=Europe/Berlin:20230623T230000
DTSTAMP:20260421T205728
CREATED:20250721T194811Z
LAST-MODIFIED:20250721T194811Z
UID:381-1687539600-1687561200@hohenaverbergen.de
SUMMARY:Drommelbeck-Cup 2023
DESCRIPTION:Die 5. Auflage steht bevor: Am 23. Juni 2023 findet der 5. Drommelbeck-Cup auf der Sportanlage vom TSV Lohberg in Luttum statt und wir freuen uns wieder auf ein bunt gemischtes Teilnehmerfeld. Tragt Euch den Termin bereits in den Kalender\, weitere Infos und Möglichkeiten zur Anmeldung folgen zu Beginn des neuen Jahres.
URL:https://hohenaverbergen.de/event/drommelbeck-cup-2023/
ATTACH;FMTTYPE=image/jpeg:https://hohenaverbergen.de/wp-content/uploads/2025/07/football-1396740.jpg.c837c94c917a689a09c3b958eefb4970-ogGXpW.jpg
END:VEVENT
END:VCALENDAR