BEGIN:VCALENDAR
VERSION:2.0
PRODID:-//Hohenaverbergen.de - ECPv6.15.20//NONSGML v1.0//EN
CALSCALE:GREGORIAN
METHOD:PUBLISH
X-WR-CALNAME:Hohenaverbergen.de
X-ORIGINAL-URL:https://hohenaverbergen.de
X-WR-CALDESC:Veranstaltungen für Hohenaverbergen.de
REFRESH-INTERVAL;VALUE=DURATION:PT1H
X-Robots-Tag:noindex
X-PUBLISHED-TTL:PT1H
BEGIN:VTIMEZONE
TZID:Europe/Berlin
BEGIN:DAYLIGHT
TZOFFSETFROM:+0100
TZOFFSETTO:+0200
TZNAME:CEST
DTSTART:20220327T010000
END:DAYLIGHT
BEGIN:STANDARD
TZOFFSETFROM:+0200
TZOFFSETTO:+0100
TZNAME:CET
DTSTART:20221030T010000
END:STANDARD
BEGIN:DAYLIGHT
TZOFFSETFROM:+0100
TZOFFSETTO:+0200
TZNAME:CEST
DTSTART:20230326T010000
END:DAYLIGHT
BEGIN:STANDARD
TZOFFSETFROM:+0200
TZOFFSETTO:+0100
TZNAME:CET
DTSTART:20231029T010000
END:STANDARD
BEGIN:DAYLIGHT
TZOFFSETFROM:+0100
TZOFFSETTO:+0200
TZNAME:CEST
DTSTART:20240331T010000
END:DAYLIGHT
BEGIN:STANDARD
TZOFFSETFROM:+0200
TZOFFSETTO:+0100
TZNAME:CET
DTSTART:20241027T010000
END:STANDARD
END:VTIMEZONE
BEGIN:VEVENT
DTSTART;TZID=Europe/Berlin:20230917T090000
DTEND;TZID=Europe/Berlin:20230917T160000
DTSTAMP:20260421T121227
CREATED:20250721T194909Z
LAST-MODIFIED:20250721T194909Z
UID:447-1694941200-1694966400@hohenaverbergen.de
SUMMARY:Hohen on Tour 2023
DESCRIPTION:Hohenaverbergen geht wieder auf „Fahrrad-Tour“. Organisiert wird die Radtour von Torsten Hoins. Die Fahrstrecke beträgt 52 km und führt durch:\n \n\n\n		Hohenaverbergen\n	\n\n		Groß Hutbergen\n	\n\n		Morsum\n	\n\n		Uesen Bootshafen (Kaffee und Kuchen inkl.)\n	\n\n		Eissel\n	\n\n		Hohenaverbergen (Grillbuffet am Hohener See)\n	\n\n\n	Start ist am 17.09.2023 am Dorfplatz um 9:00 Uhr.\n \n\n	Anmeldung bis zum 5.9.2023 unter torsten.hoins@gmail.com oder telefonisch bei Torsten Hoins (0170-3831690). \n	Wir freuen uns über viele Anmeldungen! \n	 
URL:https://hohenaverbergen.de/event/hohen-on-tour-2023/
ATTACH;FMTTYPE=image/jpeg:https://hohenaverbergen.de/wp-content/uploads/2025/07/hohen-on-tour2023.jpg.844a744381e41bc6c864af1a63d1d8e1-C93WGG.jpg
END:VEVENT
END:VCALENDAR