BEGIN:VCALENDAR
VERSION:2.0
PRODID:-//Hohenaverbergen.de - ECPv6.15.20//NONSGML v1.0//EN
CALSCALE:GREGORIAN
METHOD:PUBLISH
X-ORIGINAL-URL:https://hohenaverbergen.de
X-WR-CALDESC:Veranstaltungen für Hohenaverbergen.de
REFRESH-INTERVAL;VALUE=DURATION:PT1H
X-Robots-Tag:noindex
X-PUBLISHED-TTL:PT1H
BEGIN:VTIMEZONE
TZID:Europe/Berlin
BEGIN:DAYLIGHT
TZOFFSETFROM:+0100
TZOFFSETTO:+0200
TZNAME:CEST
DTSTART:20220327T010000
END:DAYLIGHT
BEGIN:STANDARD
TZOFFSETFROM:+0200
TZOFFSETTO:+0100
TZNAME:CET
DTSTART:20221030T010000
END:STANDARD
BEGIN:DAYLIGHT
TZOFFSETFROM:+0100
TZOFFSETTO:+0200
TZNAME:CEST
DTSTART:20230326T010000
END:DAYLIGHT
BEGIN:STANDARD
TZOFFSETFROM:+0200
TZOFFSETTO:+0100
TZNAME:CET
DTSTART:20231029T010000
END:STANDARD
BEGIN:DAYLIGHT
TZOFFSETFROM:+0100
TZOFFSETTO:+0200
TZNAME:CEST
DTSTART:20240331T010000
END:DAYLIGHT
BEGIN:STANDARD
TZOFFSETFROM:+0200
TZOFFSETTO:+0100
TZNAME:CET
DTSTART:20241027T010000
END:STANDARD
END:VTIMEZONE
BEGIN:VEVENT
DTSTART;TZID=Europe/Berlin:20231003T110000
DTEND;TZID=Europe/Berlin:20231003T110000
DTSTAMP:20260421T104023
CREATED:20250721T194911Z
LAST-MODIFIED:20250721T194911Z
UID:453-1696330800-1696330800@hohenaverbergen.de
SUMMARY:Herbstfest 2023
DESCRIPTION:Der Schützenverein lädt alle Mitglieder\, Hohener Bürger\, Gäste\, Freunde\, Bekannte und Verwandte herzlich zum traditionellen Herbstfest ins Schützenhaus ein.\n \n\n\n		Wann? Dienstag\, den 3. Oktober ab 11:00 Uhr\n	\n\n		Wo? Im Schützenhaus\n	\n\n\n	Zum Mittagessen werden Leckereien vom Grill\, ein Salatbuffet und Nachtisch angeboten. Nachmittags folgt eine Kaffeetafel mit Torte und Blechkuchen\, alle Getränke sind inklusive.\n \n\n	ALL-INCLUSIVE-Preis: 15\,00 EUR pro Person und 7\,50 für Kids (7-11 Jahre\, bis 6 Jahre frei)\n\n\n	\n \n\n	 \n \n\n	Programm für Große und Kleine: Treffsicherheit mit dem Bogen ausprobieren und das Glück bei den angebotenen Schätzspielen herausfordern.\n \n\n	Zur besseren Planung bitten wir um eine Anmeldung bis zum 29. September 2023 bei Ramona Gerhmann (04238-9440344) oder Carola Helmke (04231-68429) oder Rena Peck (04238 617).\n \n\n	Wer Salat\, Nachtisch\, Kuchen oder Torte zum Fest beitragen möchte\, kann sich gerne unter den unten angegebenen Telefonnummern mit uns in Verbindung setzen.
URL:https://hohenaverbergen.de/event/herbstfest-2023/
ATTACH;FMTTYPE=image/jpeg:https://hohenaverbergen.de/wp-content/uploads/2025/07/pumpkin-patch-2783707.jpg.337e8fc5d2c5568e568ad16be228a7fb-xIQEg7.jpg
END:VEVENT
END:VCALENDAR