BEGIN:VCALENDAR
VERSION:2.0
PRODID:-//Hohenaverbergen.de - ECPv6.15.20//NONSGML v1.0//EN
CALSCALE:GREGORIAN
METHOD:PUBLISH
X-WR-CALNAME:Hohenaverbergen.de
X-ORIGINAL-URL:https://hohenaverbergen.de
X-WR-CALDESC:Veranstaltungen für Hohenaverbergen.de
REFRESH-INTERVAL;VALUE=DURATION:PT1H
X-Robots-Tag:noindex
X-PUBLISHED-TTL:PT1H
BEGIN:VTIMEZONE
TZID:Europe/Berlin
BEGIN:DAYLIGHT
TZOFFSETFROM:+0100
TZOFFSETTO:+0200
TZNAME:CEST
DTSTART:20220327T010000
END:DAYLIGHT
BEGIN:STANDARD
TZOFFSETFROM:+0200
TZOFFSETTO:+0100
TZNAME:CET
DTSTART:20221030T010000
END:STANDARD
BEGIN:DAYLIGHT
TZOFFSETFROM:+0100
TZOFFSETTO:+0200
TZNAME:CEST
DTSTART:20230326T010000
END:DAYLIGHT
BEGIN:STANDARD
TZOFFSETFROM:+0200
TZOFFSETTO:+0100
TZNAME:CET
DTSTART:20231029T010000
END:STANDARD
BEGIN:DAYLIGHT
TZOFFSETFROM:+0100
TZOFFSETTO:+0200
TZNAME:CEST
DTSTART:20240331T010000
END:DAYLIGHT
BEGIN:STANDARD
TZOFFSETFROM:+0200
TZOFFSETTO:+0100
TZNAME:CET
DTSTART:20241027T010000
END:STANDARD
END:VTIMEZONE
BEGIN:VEVENT
DTSTART;TZID=Europe/Berlin:20231007T140000
DTEND;TZID=Europe/Berlin:20231007T163000
DTSTAMP:20260421T103608
CREATED:20250721T194930Z
LAST-MODIFIED:20250721T194930Z
UID:473-1696687200-1696696200@hohenaverbergen.de
SUMMARY:Unser heimisches Wild (für Kinder im Grundschulalter)
DESCRIPTION:Gemeinsam mit Jürgen Thran wollen wir etwas über unser heimisches Wild erfahren und die Tiere für den Winter mit Futter versorgen! Dafür werden wir gemeinsam in den Wald laufen. Bring gerne ein paar gesammelte Eicheln und Kastanien sowie wetterfeste Kleidung mit.\n \n\n	Für Kinder im Alter von 6-12 Jahre. Treffen an der Luther Eiche.\n \n\n	Anmeldung bis zum 02.10.2023 bei Joceline Moritz unter 04238 1659 oder joceline.m@web.de \n \n\n	 
URL:https://hohenaverbergen.de/event/unser-heimisches-wild-fuer-kinder-im-grundschulalter/
ATTACH;FMTTYPE=image/jpeg:https://hohenaverbergen.de/wp-content/uploads/2025/07/roe-deer-7354145.jpg.4fb62ef07a73971af05cb8d2eb6c30f4-ZaCvXM.jpg
END:VEVENT
END:VCALENDAR