BEGIN:VCALENDAR
VERSION:2.0
PRODID:-//Hohenaverbergen.de - ECPv6.15.20//NONSGML v1.0//EN
CALSCALE:GREGORIAN
METHOD:PUBLISH
X-WR-CALNAME:Hohenaverbergen.de
X-ORIGINAL-URL:https://hohenaverbergen.de
X-WR-CALDESC:Veranstaltungen für Hohenaverbergen.de
REFRESH-INTERVAL;VALUE=DURATION:PT1H
X-Robots-Tag:noindex
X-PUBLISHED-TTL:PT1H
BEGIN:VTIMEZONE
TZID:Europe/Berlin
BEGIN:DAYLIGHT
TZOFFSETFROM:+0100
TZOFFSETTO:+0200
TZNAME:CEST
DTSTART:20220327T010000
END:DAYLIGHT
BEGIN:STANDARD
TZOFFSETFROM:+0200
TZOFFSETTO:+0100
TZNAME:CET
DTSTART:20221030T010000
END:STANDARD
BEGIN:DAYLIGHT
TZOFFSETFROM:+0100
TZOFFSETTO:+0200
TZNAME:CEST
DTSTART:20230326T010000
END:DAYLIGHT
BEGIN:STANDARD
TZOFFSETFROM:+0200
TZOFFSETTO:+0100
TZNAME:CET
DTSTART:20231029T010000
END:STANDARD
BEGIN:DAYLIGHT
TZOFFSETFROM:+0100
TZOFFSETTO:+0200
TZNAME:CEST
DTSTART:20240331T010000
END:DAYLIGHT
BEGIN:STANDARD
TZOFFSETFROM:+0200
TZOFFSETTO:+0100
TZNAME:CET
DTSTART:20241027T010000
END:STANDARD
END:VTIMEZONE
BEGIN:VEVENT
DTSTART;TZID=Europe/Berlin:20231013T183000
DTEND;TZID=Europe/Berlin:20231013T183000
DTSTAMP:20260421T105053
CREATED:20250721T194912Z
LAST-MODIFIED:20250721T194912Z
UID:455-1697221800-1697221800@hohenaverbergen.de
SUMMARY:Laterne laufen in Hohen
DESCRIPTION:Begleitet mit Fackeln und Musik vom singenden „Laternenonkel“ ziehen wir durch Hohener Straßen zum Schützenhaus. \n \n\n	Dort bieten wir Waffeln\, Bratwurst vom Grill sowie heiße und kalte Getränke an. Für die Kids haben wir eine kleine Überraschung.\n \n\n	Wir würden uns über viele Kinder mit bunten Laternen freuen und heißen sie ALLE herzlich willkommen zum Hohener Laterne laufen.\n \n\n	Treffpunkt:   am Feuerwehrhaus\n	Start:            18:30 Uhr\n \n\n	Veranstalter: Schützenverein und Ortsfeuerwehr Hohenaverbergen.\n \n\n	 
URL:https://hohenaverbergen.de/event/laterne-laufen-in-hohen/
ATTACH;FMTTYPE=image/jpeg:https://hohenaverbergen.de/wp-content/uploads/2025/07/st-martin-laterneumzug.jpg.d2dbe7b2b80051aac5e912e9e23f9153-rtl5XY.jpg
END:VEVENT
END:VCALENDAR