BEGIN:VCALENDAR
VERSION:2.0
PRODID:-//Hohenaverbergen.de - ECPv6.15.20//NONSGML v1.0//EN
CALSCALE:GREGORIAN
METHOD:PUBLISH
X-ORIGINAL-URL:https://hohenaverbergen.de
X-WR-CALDESC:Veranstaltungen für Hohenaverbergen.de
REFRESH-INTERVAL;VALUE=DURATION:PT1H
X-Robots-Tag:noindex
X-PUBLISHED-TTL:PT1H
BEGIN:VTIMEZONE
TZID:Europe/Berlin
BEGIN:DAYLIGHT
TZOFFSETFROM:+0100
TZOFFSETTO:+0200
TZNAME:CEST
DTSTART:20240331T010000
END:DAYLIGHT
BEGIN:STANDARD
TZOFFSETFROM:+0200
TZOFFSETTO:+0100
TZNAME:CET
DTSTART:20241027T010000
END:STANDARD
BEGIN:DAYLIGHT
TZOFFSETFROM:+0100
TZOFFSETTO:+0200
TZNAME:CEST
DTSTART:20250330T010000
END:DAYLIGHT
BEGIN:STANDARD
TZOFFSETFROM:+0200
TZOFFSETTO:+0100
TZNAME:CET
DTSTART:20251026T010000
END:STANDARD
BEGIN:DAYLIGHT
TZOFFSETFROM:+0100
TZOFFSETTO:+0200
TZNAME:CEST
DTSTART:20260329T010000
END:DAYLIGHT
BEGIN:STANDARD
TZOFFSETFROM:+0200
TZOFFSETTO:+0100
TZNAME:CET
DTSTART:20261025T010000
END:STANDARD
END:VTIMEZONE
BEGIN:VEVENT
DTSTART;TZID=Europe/Berlin:20250906T134500
DTEND;TZID=Europe/Berlin:20250906T235900
DTSTAMP:20260421T121459
CREATED:20250721T195126Z
LAST-MODIFIED:20250904T120909Z
UID:670-1757166300-1757203140@hohenaverbergen.de
SUMMARY:Erntefest Hohenaverbergen 2025
DESCRIPTION:Einer der wichtigsten Termine im Dorf: Das Erntefest findet wieder mit einem Umzug aus Fußtruppen und bunt geschmückten Erntewagen sowie dem anschließenden Erntegebet statt – unter der Erntekrone darf danach auch wieder kräftig gefeiert werden. Für Essen und Trinken ist gesorgt. \n\n\n\n\nTreffen um 13:45 Uhr an der Luther Eiche!\n\n\n\n14:00 Uhr zu Fuss zur Abholung der Erntekrone\n\n\n\n14:45 Uhr Umzug durch das Dorf\n\n\n\nCa. 15:30 Uhr Erntegebet und dann eine Ansprache\, danach handgemachte Musik\n\n\n\nKaffee und Kuchen\, Kinderschminken und Hüpfburg\n\n\n\nAnschließend Musik und Tanz mit DJ Cedric Callan bis in den Morgen!\n\n\n\n\nWir freuen uns auf ein geschmücktes Dorf und viele Gäste!
URL:https://hohenaverbergen.de/event/erntefest-hohenaverbergen-2025/
LOCATION:Dorfplatz Hohenaverbergen\, Hohener Dorfstrasse 39\, Kirchlinteln\, 27308
ATTACH;FMTTYPE=image/jpeg:https://hohenaverbergen.de/wp-content/uploads/2025/07/Festwagen_Dezemberernte.jpg.34c4013db54855a88e57b4dc4d083df9-bS2zTE.jpg
END:VEVENT
END:VCALENDAR