BEGIN:VCALENDAR
VERSION:2.0
PRODID:-//Hohenaverbergen.de - ECPv6.15.20//NONSGML v1.0//EN
CALSCALE:GREGORIAN
METHOD:PUBLISH
X-WR-CALNAME:Hohenaverbergen.de
X-ORIGINAL-URL:https://hohenaverbergen.de
X-WR-CALDESC:Veranstaltungen für Hohenaverbergen.de
REFRESH-INTERVAL;VALUE=DURATION:PT1H
X-Robots-Tag:noindex
X-PUBLISHED-TTL:PT1H
BEGIN:VTIMEZONE
TZID:Europe/Berlin
BEGIN:DAYLIGHT
TZOFFSETFROM:+0100
TZOFFSETTO:+0200
TZNAME:CEST
DTSTART:20210328T010000
END:DAYLIGHT
BEGIN:STANDARD
TZOFFSETFROM:+0200
TZOFFSETTO:+0100
TZNAME:CET
DTSTART:20211031T010000
END:STANDARD
BEGIN:DAYLIGHT
TZOFFSETFROM:+0100
TZOFFSETTO:+0200
TZNAME:CEST
DTSTART:20220327T010000
END:DAYLIGHT
BEGIN:STANDARD
TZOFFSETFROM:+0200
TZOFFSETTO:+0100
TZNAME:CET
DTSTART:20221030T010000
END:STANDARD
BEGIN:DAYLIGHT
TZOFFSETFROM:+0100
TZOFFSETTO:+0200
TZNAME:CEST
DTSTART:20230326T010000
END:DAYLIGHT
BEGIN:STANDARD
TZOFFSETFROM:+0200
TZOFFSETTO:+0100
TZNAME:CET
DTSTART:20231029T010000
END:STANDARD
END:VTIMEZONE
BEGIN:VEVENT
DTSTART;VALUE=DATE:20220611
DTEND;VALUE=DATE:20220613
DTSTAMP:20260424T141324
CREATED:20250721T194718Z
LAST-MODIFIED:20250721T194718Z
UID:321-1654905600-1655078399@hohenaverbergen.de
SUMMARY:Fahrturnier Lohberg
DESCRIPTION:Fahrturnier Lohberg mit Kreismeisterschaften des KRV Verden und Landesjugendmeisterschaften U16 des Pferdesportverbandes Hannover e.V. Das Turnier findet auf dem Turnierplatz Hasenheide statt.\n \n\n	Veranstalter: Fahr- und Reitverein Niedersachsen Mitte
URL:https://hohenaverbergen.de/event/fahrturnier-lohberg/
ATTACH;FMTTYPE=image/jpeg:https://hohenaverbergen.de/wp-content/uploads/2025/07/horses-65610.jpg.c5373e998a9c11086399a9ad3ee7d21d-eqT2ye.jpg
END:VEVENT
BEGIN:VEVENT
DTSTART;TZID=Europe/Berlin:20220613T183000
DTEND;TZID=Europe/Berlin:20220613T210000
DTSTAMP:20260424T141324
CREATED:20250721T194719Z
LAST-MODIFIED:20250721T194719Z
UID:325-1655145000-1655154000@hohenaverbergen.de
SUMMARY:Zukunft für den Kleinbahnbezirk
DESCRIPTION:Die sechs Dörfer Eitze\, Armsen\, Hohenaverbergen\, Luttum\, Neddenaverbergen und Stemmen wollen in das Dorfentwicklungsprogramm des Landes Niedersachsen aufgenommen werden. Die Bewerbung soll im Sommer stehen. Dazu laden wir alle Interessierten aus der Dorfregion ein\, gemeinsam die aktuelle Situation der Dorfregion in den Blick zu nehmen und Ideen für die Zukunft zu sammeln.\n \n\n	Herausforderungen\, die unsere Dorfregion hat\, sind unter anderem:\n \n\n\n		der Leerstand ortsbildprägender Gebäude und die Nachnutzung von Hofstellen\n	\n\n		die Sicherstellung der Nahversorgung sowie der Ausbau des öffentlichen Personennahverkehrs\n	\n\n		ländlicher Tourismus und Klimaschutz (Stichwort Elektromobilität)\n	\n\n		Renaturierung der Aller (Blaues Band)\n	\n\n\n	Bringen Sie Ihre Ideen ein!\n \n\n	Montag\, 13. Juni 2022\n	18:30 bis 21:00 Uhr\n	Gasthaus zum Drommelbeck\n	 
URL:https://hohenaverbergen.de/event/zukunft-fuer-den-kleinbahnbezirk/
ATTACH;FMTTYPE=image/jpeg:https://hohenaverbergen.de/wp-content/uploads/2025/07/railway-2439189.jpg.c5fec3af73a4f0e5c40aa39f7d0e7451-z6VGXQ.jpg
END:VEVENT
BEGIN:VEVENT
DTSTART;TZID=Europe/Berlin:20220620T183000
DTEND;TZID=Europe/Berlin:20220620T183000
DTSTAMP:20260424T141324
CREATED:20250721T194727Z
LAST-MODIFIED:20250721T194727Z
UID:327-1655749800-1655749800@hohenaverbergen.de
SUMMARY:Besichtigung des Friedhofs
DESCRIPTION:Um 18:30 Uhr findet ein Ortstermin mit Besichtigung des Friedhofs in Hohenaverbergen statt\, an der interessierte Bürgerinnen und Bürger gerne teilnehmen können.
URL:https://hohenaverbergen.de/event/besichtigung-des-friedhofs/
ATTACH;FMTTYPE=image/jpeg:https://hohenaverbergen.de/wp-content/uploads/2025/07/friedhofe.jpg.b3c52916d0c21e615553ef9c83dade53-1PRUkl.jpg
END:VEVENT
BEGIN:VEVENT
DTSTART;TZID=Europe/Berlin:20220620T193000
DTEND;TZID=Europe/Berlin:20220620T193000
DTSTAMP:20260424T141324
CREATED:20250721T194700Z
LAST-MODIFIED:20250721T194700Z
UID:299-1655753400-1655753400@hohenaverbergen.de
SUMMARY:ABGESAGT: Ortschaftsversammlung
DESCRIPTION:Aufgrund von Corona-Ausfällen von zwei Einladenden und das momentan sehr hohe Infektionsgeschehen muss die Ortschaftsversammlung leider ausfallen😔\n \n\n	Am 20.06.2022 um 19:30 Uhr im Gasthaus Zum Drommelbeck (Saal Rosebrock) in Hohenaverbergen findet die jährliche Info- und Ortschaftsversammlung für alle Bürgerinnen und Bürger aus Hohenaverbergen statt.\n \n\n	Themen\n\n\n	1. Begrüßung\n \n\n	2. Aktuelles aus der Gemeinde\n	– Ukraine\n	– Ganztagsgrundschule\n	– RROP – Windenergie\n	– <a href="/calendar/event/193-zukunft-fuer-den-kleinbahnbezirk/“ rel=““>Dorfregion – Kleinbahnbezirk\n	– 50 Jahre Gemeinde Kirchlinteln\n \n\n	3. Themen aus der Ortschaft\n	– Status – Baugebiet „Am Mischwald II“\n	– Radweg an der L160 sicherer gestalten\n	– Kriterien für ein Tempolimit Ortsdurchfahrt L160 i. R. Verden\n	– Gefahrenquelle L160/Klinkerstraße\n	– Verfügbarkeit Internet in Hohenaverbergen\n	– Regenwasserablauf Bushaltestelle Klinkerstraße\n	– Einbahnstraßenregelung in der Klinkerstraße ab Große Fuhren\n \n\n	4. Anfragen von Einwohnerinnen und Einwohner\n \n\n	Sie sind herzlich eingeladen!\n \n\n	Der Bürgermeister: Arne Jacobs\n	Die Ortsvorsteherin: Birgit Söhn
URL:https://hohenaverbergen.de/event/abgesagt-ortschaftsversammlung/
ATTACH;FMTTYPE=image/jpeg:https://hohenaverbergen.de/wp-content/uploads/2025/07/writing-923882.jpg.c1f53843d569d6eb585fc1528bda433d-vmrgTC.jpg
END:VEVENT
BEGIN:VEVENT
DTSTART;TZID=Europe/Berlin:20220624T170000
DTEND;TZID=Europe/Berlin:20220624T170000
DTSTAMP:20260424T141324
CREATED:20250721T194719Z
LAST-MODIFIED:20250721T194719Z
UID:323-1656090000-1656090000@hohenaverbergen.de
SUMMARY:Fußball Drommelbeck-Cup
DESCRIPTION:Nach zwei pandemiebedingten Absagen geht der Drommelbeck-Cup beim TSV Lohberg in 2022 wieder an den Start: Am 24. Juni 2022 soll das beliebte Firmenturnier in Luttum über die Bühne gehen und der Verein hofft jetzt auf viele Anmeldungen. \n \n\n	„Wir freuen uns\, dass das Turnier in diesem Jahr wieder stattfinden kann und rufen alle interessierten Betriebe und Behörden dazu auf\, sich anzumelden und mitzumachen„\, hofft Fußball-Spartenleiter Steffen Lühning auf einen bunten Mix bei den Anmeldungen. Neben den Teilnehmern aus den vergangenen Jahren sind auch Erstmeldungen herzlich willkommen. „Die Mannschaften sollen sich am 24. Juni bis 17 Uhr auf unserer Sportanlage einfinden\, ab 17:30 Uhr soll dann der Ball rollen und wir freuen uns natürlich auch über viele Zuschauer„\, ergänzt Schiedsrichterobmann Jan-Malte Gerdes.\n \n\n	Das Firmenturnier wird auf dem Kleinfeld ausgetragen: fünf Feldspieler und ein Torwart stehen gleichzeitig auf dem Feld\, dazu kommen beliebig viele Auswechselspieler.\n \n\n	Alle Infos\, die Einladung mitsamt Spielregeln und Anmeldemöglichkeit sowie ein Plakat zu Werbezwecken können Interessierte auf der Homepage des Sportvereins einsehen: www.tsvlohberg.de/drommelbeck-cup\n \n\n	Für alle Teilnehmer und Besucher:\n \n\n\n		Leckeres vom Grill\n	\n\n		Kühle Getränke\n	\n\n		Tolle Atmosphäre 😉\n\n\n	Ort: Sportplatz TSV Lohberg\n	Veranstalter: TSV Lohberg
URL:https://hohenaverbergen.de/event/fussball-drommelbeck-cup-2/
ATTACH;FMTTYPE=image/jpeg:https://hohenaverbergen.de/wp-content/uploads/2025/07/football-1396740.jpg.b0ec29b9421039c049859230590053c3-OjcI0E.jpg
END:VEVENT
BEGIN:VEVENT
DTSTART;TZID=Europe/Berlin:20220625T090000
DTEND;TZID=Europe/Berlin:20220625T120000
DTSTAMP:20260424T141324
CREATED:20250721T194712Z
LAST-MODIFIED:20250721T194712Z
UID:315-1656147600-1656158400@hohenaverbergen.de
SUMMARY:Altpapier-Containersammlung in Hohenaverbergen
DESCRIPTION:Liebe Vereinsmitglieder\,\n	liebe Einwohner von Hohenaverbergen\,\n \n\n	die Sportler des TSV Lohberg engagieren sich seit Jahren für die Altpapiersammlung\, indem sie samstags freiwillig das Altpapier in ihrem dorf sammeln. Der Erlös aus der Altpapiersammlung ist für den TSV Lohberg eine wichtige Einnahmequelle\, die uns hilft\, die Kosten für den Sportbetrieb aufzubringen. Wir finanzieren damit Aktivitäten für Jung und Alt\, vom Kinderturnen bis zur Seniorengymnastik.\n \n\n	In Zukunft werden wir jetzt alle 4 Wochen den Container auf dem Grundstück der Familie Hoops\, Hohener Dorfstrasse 27 in der Zeit von 9:00 bis 12:00 Uhr aufstellen und ihr Altpapier sammeln.\n \n\n	Wir bitten Sie\, sich für die Altpapiersammlung des TSV Lohberg zu entscheiden und nicht für die blaue Tonne irgendeines Unternehmens/Landkreises. Für weitere Informationen und Fragen kontaktieren Sie unsere Geschäftsstelle unter 04231/951729. Vielen Dank für Ihre / Eure Unterstützung!
URL:https://hohenaverbergen.de/event/altpapier-containersammlung-in-hohenaverbergen-11/
ATTACH;FMTTYPE=image/jpeg:https://hohenaverbergen.de/wp-content/uploads/2025/07/2020_AltpapierBeitragsbild.jpg.36fd70f3edb066ffa234421e133ac50f-dYJGtL.jpg
END:VEVENT
END:VCALENDAR