BEGIN:VCALENDAR
VERSION:2.0
PRODID:-//Hohenaverbergen.de - ECPv6.15.20//NONSGML v1.0//EN
CALSCALE:GREGORIAN
METHOD:PUBLISH
X-ORIGINAL-URL:https://hohenaverbergen.de
X-WR-CALDESC:Veranstaltungen für Hohenaverbergen.de
REFRESH-INTERVAL;VALUE=DURATION:PT1H
X-Robots-Tag:noindex
X-PUBLISHED-TTL:PT1H
BEGIN:VTIMEZONE
TZID:Europe/Berlin
BEGIN:DAYLIGHT
TZOFFSETFROM:+0100
TZOFFSETTO:+0200
TZNAME:CEST
DTSTART:20210328T010000
END:DAYLIGHT
BEGIN:STANDARD
TZOFFSETFROM:+0200
TZOFFSETTO:+0100
TZNAME:CET
DTSTART:20211031T010000
END:STANDARD
BEGIN:DAYLIGHT
TZOFFSETFROM:+0100
TZOFFSETTO:+0200
TZNAME:CEST
DTSTART:20220327T010000
END:DAYLIGHT
BEGIN:STANDARD
TZOFFSETFROM:+0200
TZOFFSETTO:+0100
TZNAME:CET
DTSTART:20221030T010000
END:STANDARD
BEGIN:DAYLIGHT
TZOFFSETFROM:+0100
TZOFFSETTO:+0200
TZNAME:CEST
DTSTART:20230326T010000
END:DAYLIGHT
BEGIN:STANDARD
TZOFFSETFROM:+0200
TZOFFSETTO:+0100
TZNAME:CET
DTSTART:20231029T010000
END:STANDARD
END:VTIMEZONE
BEGIN:VEVENT
DTSTART;TZID=Europe/Berlin:20220823T193000
DTEND;TZID=Europe/Berlin:20220823T193000
DTSTAMP:20260424T105156
CREATED:20250721T194729Z
LAST-MODIFIED:20250721T194729Z
UID:333-1661283000-1661283000@hohenaverbergen.de
SUMMARY:Ortschaftsversammlung
DESCRIPTION:Am Dienstag\,  dem 23.08.2022 um 19:30 Uhr im Gasthaus Zum Drommelbeck (Saal Rosebrock) in Hohenaverbergen findet die jährliche Info- und Ortschaftsversammlung für alle Bürgerinnen und Bürger aus Hohenaverbergen statt.\n \n\n	Themen\n\n\n	1. Begrüßung\n \n\n	2. Aktuelles aus der Gemeinde\n	– Ukraine\n	– Ganztagsgrundschule\n	– RROP – Windenergie\n	– <a href="/calendar/event/193-zukunft-fuer-den-kleinbahnbezirk/“ rel=““>Dorfregion – Kleinbahnbezirk\n	– 50 Jahre Gemeinde Kirchlinteln\n \n\n	3. Themen aus der Ortschaft\n	– Status – Baugebiet „Am Mischwald II“\n	– Radweg an der L160 sicherer gestalten\n	– Kriterien für ein Tempolimit Ortsdurchfahrt L160 i. R. Verden\n	– Gefahrenquelle L160/Klinkerstraße\n	– Verfügbarkeit Internet in Hohenaverbergen\n	– Regenwasserablauf Bushaltestelle Klinkerstraße\n	– Einbahnstraßenregelung in der Klinkerstraße ab Große Fuhren\n \n\n	4. Anfragen von Einwohnerinnen und Einwohner\n \n\n	Sie sind herzlich eingeladen!\n \n\n	Der Bürgermeister: Arne Jacobs\n	Die Ortsvorsteherin: Birgit Söhn
URL:https://hohenaverbergen.de/event/ortschaftsversammlung-2/
ATTACH;FMTTYPE=image/jpeg:https://hohenaverbergen.de/wp-content/uploads/2025/07/writing-923882.jpg.f6a8bb350377448c9a995bb39f27ebe0-7mp79q.jpg
END:VEVENT
BEGIN:VEVENT
DTSTART;TZID=Europe/Berlin:20220827T090000
DTEND;TZID=Europe/Berlin:20220827T120000
DTSTAMP:20260424T105156
CREATED:20250721T194717Z
LAST-MODIFIED:20250721T194717Z
UID:317-1661590800-1661601600@hohenaverbergen.de
SUMMARY:Altpapier-Containersammlung in Hohenaverbergen
DESCRIPTION:Liebe Vereinsmitglieder\,\n	liebe Einwohner von Hohenaverbergen\,\n \n\n	die Sportler des TSV Lohberg engagieren sich seit Jahren für die Altpapiersammlung\, indem sie samstags freiwillig das Altpapier in ihrem dorf sammeln. Der Erlös aus der Altpapiersammlung ist für den TSV Lohberg eine wichtige Einnahmequelle\, die uns hilft\, die Kosten für den Sportbetrieb aufzubringen. Wir finanzieren damit Aktivitäten für Jung und Alt\, vom Kinderturnen bis zur Seniorengymnastik.\n \n\n	In Zukunft werden wir jetzt alle 4 Wochen den Container auf dem Grundstück der Familie Hoops\, Hohener Dorfstrasse 27 in der Zeit von 9:00 bis 12:00 Uhr aufstellen und ihr Altpapier sammeln.\n \n\n	Wir bitten Sie\, sich für die Altpapiersammlung des TSV Lohberg zu entscheiden und nicht für die blaue Tonne irgendeines Unternehmens/Landkreises. Für weitere Informationen und Fragen kontaktieren Sie unsere Geschäftsstelle unter 04231/951729. Vielen Dank für Ihre / Eure Unterstützung!
URL:https://hohenaverbergen.de/event/altpapier-containersammlung-in-hohenaverbergen-12/
ATTACH;FMTTYPE=image/jpeg:https://hohenaverbergen.de/wp-content/uploads/2025/07/2020_AltpapierBeitragsbild.jpg.8e11079a6668792849e817381683a092-1WbhMq.jpg
END:VEVENT
END:VCALENDAR