BEGIN:VCALENDAR
VERSION:2.0
PRODID:-//Hohenaverbergen.de - ECPv6.15.20//NONSGML v1.0//EN
CALSCALE:GREGORIAN
METHOD:PUBLISH
X-WR-CALNAME:Hohenaverbergen.de
X-ORIGINAL-URL:https://hohenaverbergen.de
X-WR-CALDESC:Veranstaltungen für Hohenaverbergen.de
REFRESH-INTERVAL;VALUE=DURATION:PT1H
X-Robots-Tag:noindex
X-PUBLISHED-TTL:PT1H
BEGIN:VTIMEZONE
TZID:Europe/Berlin
BEGIN:DAYLIGHT
TZOFFSETFROM:+0100
TZOFFSETTO:+0200
TZNAME:CEST
DTSTART:20220327T010000
END:DAYLIGHT
BEGIN:STANDARD
TZOFFSETFROM:+0200
TZOFFSETTO:+0100
TZNAME:CET
DTSTART:20221030T010000
END:STANDARD
BEGIN:DAYLIGHT
TZOFFSETFROM:+0100
TZOFFSETTO:+0200
TZNAME:CEST
DTSTART:20230326T010000
END:DAYLIGHT
BEGIN:STANDARD
TZOFFSETFROM:+0200
TZOFFSETTO:+0100
TZNAME:CET
DTSTART:20231029T010000
END:STANDARD
BEGIN:DAYLIGHT
TZOFFSETFROM:+0100
TZOFFSETTO:+0200
TZNAME:CEST
DTSTART:20240331T010000
END:DAYLIGHT
BEGIN:STANDARD
TZOFFSETFROM:+0200
TZOFFSETTO:+0100
TZNAME:CET
DTSTART:20241027T010000
END:STANDARD
END:VTIMEZONE
BEGIN:VEVENT
DTSTART;TZID=Europe/Berlin:20230809T143000
DTEND;TZID=Europe/Berlin:20230809T143000
DTSTAMP:20260421T160918
CREATED:20250721T194853Z
LAST-MODIFIED:20250721T194853Z
UID:433-1691591400-1691591400@hohenaverbergen.de
SUMMARY:Kaffeefahrt mit der Allernixe für Senioren
DESCRIPTION:Ort: Schifffahrt ab Verden\n	Veranstalter: Senioren Orga-Team Schützenverein\n \n\n	SV Einladung 090823.pdf
URL:https://hohenaverbergen.de/event/kaffeefahrt-mit-der-allernixe-fuer-senioren/
ATTACH;FMTTYPE=image/jpeg:https://hohenaverbergen.de/wp-content/uploads/2025/07/sunset-1226086.jpg.7f41914df1d714d05b0a86b396aaf57b-XWxsCB.jpg
END:VEVENT
BEGIN:VEVENT
DTSTART;TZID=Europe/Berlin:20230819T110000
DTEND;TZID=Europe/Berlin:20230819T110000
DTSTAMP:20260421T160918
CREATED:20250721T194917Z
LAST-MODIFIED:20250721T194917Z
UID:463-1692442800-1692442800@hohenaverbergen.de
SUMMARY:Einschulungsgottesdienst in Wittlohe im Pfarrgarten
DESCRIPTION:Heute sind alle eingeschulten Kinder mit ihren Familien\, Patinnen und Paten zum Gottesdienst im Wittloher Pfarrgarten eingeladen. Das Motto ist „Mach mit“.\n \n\n	Vorbereitung: Pastor Wilhelm Timme mit Bettina Spöring\, Annalena Steeneck und Christiane Bensel-Steeneck\n \n\n	Musik: Jannis Cordes
URL:https://hohenaverbergen.de/event/einschulungsgottesdienst-in-wittlohe-im-pfarrgarten/
ATTACH;FMTTYPE=image/jpeg:https://hohenaverbergen.de/wp-content/uploads/2025/07/school-3518905.jpg.65ff86e154ebff5db60030a1fc57c068-UvtEIR.jpg
END:VEVENT
BEGIN:VEVENT
DTSTART;TZID=Europe/Berlin:20230820T100000
DTEND;TZID=Europe/Berlin:20230820T110000
DTSTAMP:20260421T160918
CREATED:20250721T194918Z
LAST-MODIFIED:20250721T194918Z
UID:465-1692525600-1692529200@hohenaverbergen.de
SUMMARY:Gottesdienst in der Kapelle in Hohenaverbergen
DESCRIPTION:Heute ist der Gottesdienstort der St.-Jakobi Gemeinde in der Kapelle in Hohenaverbergen. Herzlich willkommen!\n \n\n	Predigt: Pastor Wilhelm Timme\n \n\n	Musik: Ulrich Boss
URL:https://hohenaverbergen.de/event/gottesdienst-in-der-kapelle-in-hohenaverbergen/
ATTACH;FMTTYPE=image/jpeg:https://hohenaverbergen.de/wp-content/uploads/2025/07/617140142_KapelleHohenSommer.jpg.00865f8907981e1154eb7ad7b259b06c-GYXsnW-scaled.jpg
END:VEVENT
BEGIN:VEVENT
DTSTART;TZID=Europe/Berlin:20230826T090000
DTEND;TZID=Europe/Berlin:20230826T120000
DTSTAMP:20260421T160918
CREATED:20250721T194853Z
LAST-MODIFIED:20250721T194853Z
UID:435-1693040400-1693051200@hohenaverbergen.de
SUMMARY:Altpapier-Containersammlung in Hohenaverbergen
DESCRIPTION:Liebe Vereinsmitglieder\,\n	liebe Einwohner von Hohenaverbergen\,\n \n\n	die Sportler des TSV Lohberg engagieren sich seit Jahren für die Altpapiersammlung\, indem sie samstags freiwillig das Altpapier in Ihrem Dorf sammeln. Der Erlös aus der Altpapiersammlung ist für den TSV Lohberg eine wichtige Einnahmequelle\, die uns hilft\, die Kosten für den Sportbetrieb aufzubringen. Wir finanzieren damit Aktivitäten für Jung und Alt\, vom Kinderturnen bis zur Seniorengymnastik.\n \n\n	Alle 4 Wochen stellen wir in der Zeit von 9:00 bis 12:00 Uhr den Container auf dem Parkplatz der Firma Berlitz\, Hohener Dorfstraße 8\, auf\, um Ihr Altpapier zu sammeln.\n \n\n	Wir bitten Sie\, sich für die Altpapiersammlung des TSV Lohberg zu entscheiden und nicht für die blaue Tonne irgendeines Unternehmens/Landkreises. Für weitere Informationen und Fragen kontaktieren Sie unsere Geschäftsstelle unter 04231/951729. Vielen Dank für Ihre Unterstützung!
URL:https://hohenaverbergen.de/event/altpapier-containersammlung-in-hohenaverbergen-23/
ATTACH;FMTTYPE=image/jpeg:https://hohenaverbergen.de/wp-content/uploads/2025/07/2023_AltpapierBeitragsbild.jpg.2d873e37ec1792c22b673d7ef4521d1d-13BVmC.jpg
END:VEVENT
BEGIN:VEVENT
DTSTART;TZID=Europe/Berlin:20230827T140000
DTEND;TZID=Europe/Berlin:20230827T140000
DTSTAMP:20260421T160918
CREATED:20250721T194916Z
LAST-MODIFIED:20250721T194916Z
UID:461-1693144800-1693144800@hohenaverbergen.de
SUMMARY:Gemeindefest der St.-Jakobi Gemeinde in Wittlohe
DESCRIPTION:Die St.-Jakobi Gemeinde feiert Gemeindefest. Das Fest startet mit einem Gottesdienst um 14 Uhr mit dem Gospelchor aus Rethem unter der Leitung von Insa Heimsoth. Danach gibt es Kaffee und Kuchen\, Musik von Olaf Bunke und Programm für Groß und Klein im Pfarrgarten. Die Zeitgeschichtliche Werkstatt im Kapitelhaus ZWiK ist ab 15 Uhr geöffnet. Ab 17.30 Uhr gibt es gegrillte Bratwürste. Alle sind herzlich willkommen!\n \n\n	301471193_PlakatSommerfest2023.pdf
URL:https://hohenaverbergen.de/event/gemeindefest-der-st-jakobi-gemeinde-in-wittlohe/
ATTACH;FMTTYPE=image/jpeg:https://hohenaverbergen.de/wp-content/uploads/2025/07/348751385_KircheimPfarrgarten.jpg.bf7099a4a9c47229f7c07edefcb6f837-T5vfpU-scaled.jpg
END:VEVENT
END:VCALENDAR